BEGIN:VCALENDAR
VERSION:2.0
PRODID:-//Mahdlo Youth Zone - ECPv6.7.0//NONSGML v1.0//EN
CALSCALE:GREGORIAN
METHOD:PUBLISH
X-WR-CALNAME:Mahdlo Youth Zone
X-ORIGINAL-URL:https://www.mahdloyz.org
X-WR-CALDESC:Events for Mahdlo Youth Zone
REFRESH-INTERVAL;VALUE=DURATION:PT1H
X-Robots-Tag:noindex
X-PUBLISHED-TTL:PT1H
BEGIN:VTIMEZONE
TZID:Europe/London
BEGIN:DAYLIGHT
TZOFFSETFROM:+0000
TZOFFSETTO:+0100
TZNAME:BST
DTSTART:20240331T010000
END:DAYLIGHT
BEGIN:STANDARD
TZOFFSETFROM:+0100
TZOFFSETTO:+0000
TZNAME:GMT
DTSTART:20241027T010000
END:STANDARD
BEGIN:DAYLIGHT
TZOFFSETFROM:+0000
TZOFFSETTO:+0100
TZNAME:BST
DTSTART:20250330T010000
END:DAYLIGHT
BEGIN:STANDARD
TZOFFSETFROM:+0100
TZOFFSETTO:+0000
TZNAME:GMT
DTSTART:20251026T010000
END:STANDARD
END:VTIMEZONE
BEGIN:VEVENT
DTSTART;TZID=Europe/London:20241117T110000
DTEND;TZID=Europe/London:20250608T140000
DTSTAMP:20260424T051555
CREATED:20241015T134131Z
LAST-MODIFIED:20250430T145659Z
UID:50071-1731841200-1749391200@www.mahdloyz.org
SUMMARY:Shine Therapy - Parents Training
DESCRIPTION:This 4 session programme will be delivered by Lisa Hamer\, an Advanced Practitioner in Sensory Integration and Highly Specialist Occupational Therapist and Director of Shine Therapy Services Ltd. \nWeek 1 – Sunday 17th November\, 11:00am – 2:00pm\nIntroduction to sensory processing difficulties \nWeek 2 – Sunday 12th January\, 11:00am – 2:00pm\nIntroduction to sensory strategies \nWeek 3 – Sunday 9th March\, 11:00am – 2:00pm\nThis session is to be based on needs and feedback from parents /carers \nWeek 4 – Sunday 8th June\, 11:00am – 2:00pm\nThis session will be based on needs and feedback from parents/carers
URL:https://www.mahdloyz.org/event/shine-therapy-parents-training/
LOCATION:The SPACE at Mahdlo Youth Zone\, Mahdlo Youth Zone\, Egerton Street\, Oldham\, OL1 3SE\, United Kingdom
CATEGORIES:Events
ATTACH;FMTTYPE=image/png:https://www.mahdloyz.org/wp-content/uploads/2024/10/Shine-therapy-parents-banner.png
ORGANIZER;CN="Mahdlo Youth Zone":MAILTO:events@mahdloyz.org
END:VEVENT
BEGIN:VEVENT
DTSTART;TZID=Europe/London:20250529T083000
DTEND;TZID=Europe/London:20250529T103000
DTSTAMP:20260424T051555
CREATED:20250416T072128Z
LAST-MODIFIED:20250520T093819Z
UID:51361-1748507400-1748514600@www.mahdloyz.org
SUMMARY:Business Breakfast with Richard Walker OBE\, Executive Chairman of Iceland Foods
DESCRIPTION:Join us for a Business Breakfast and a morning with Richard Walker OBE\nOn Thursday 29th May we will be welcoming Richard Walker OBE\, Executive Chairman of Iceland Foods and Chairman of the firms Charitable foundation as the guest speaker at our first Business Breakfast of 2025. \nEvent Timings:\n8:30am – Arrival\, breakfast and networking\n9:15am – Guest speaker and Q&A\n10:30am – Event to close \nTickets for the event are just £9.50 per person and include breakfast and refreshments. \nThis event is a must attend for: \n\nBusiness Owners\nCEO’s\, MD’s\, FD’s and Executive Directors\nStart up businesses\nEntrepreneurs\nStudents interested in Business\nPhilanthropists\n\nKindly sponsored by Docutech Office Solutions 
URL:https://www.mahdloyz.org/event/business-breakfast/
CATEGORIES:Events,Fundraising,Whats On
ATTACH;FMTTYPE=image/png:https://www.mahdloyz.org/wp-content/uploads/2025/04/Business-Breakfast-Richard-Walker-1.png
END:VEVENT
END:VCALENDAR