BEGIN:VCALENDAR
VERSION:2.0
PRODID:-//Mahdlo Youth Zone - ECPv6.7.0//NONSGML v1.0//EN
CALSCALE:GREGORIAN
METHOD:PUBLISH
X-WR-CALNAME:Mahdlo Youth Zone
X-ORIGINAL-URL:https://www.mahdloyz.org
X-WR-CALDESC:Events for Mahdlo Youth Zone
REFRESH-INTERVAL;VALUE=DURATION:PT1H
X-Robots-Tag:noindex
X-PUBLISHED-TTL:PT1H
BEGIN:VTIMEZONE
TZID:Europe/London
BEGIN:DAYLIGHT
TZOFFSETFROM:+0000
TZOFFSETTO:+0100
TZNAME:BST
DTSTART:20230326T010000
END:DAYLIGHT
BEGIN:STANDARD
TZOFFSETFROM:+0100
TZOFFSETTO:+0000
TZNAME:GMT
DTSTART:20231029T010000
END:STANDARD
END:VTIMEZONE
BEGIN:VEVENT
DTSTART;TZID=Europe/London:20230213T083000
DTEND;TZID=Europe/London:20230217T153000
DTSTAMP:20260424T172212
CREATED:20230116T143158Z
LAST-MODIFIED:20230130T112000Z
UID:44651-1676277000-1676647800@www.mahdloyz.org
SUMMARY:Holiday Zone February 2023
DESCRIPTION:Holiday Zone takes place Monday to Friday\, 8.30am – 3.30pm. \nWe want Holiday Zone to be as affordable as possible\, so we’ve locked our prices again! Each day is just £13 per young person and includes a light breakfast and hot lunch\, as well as access to every activity throughout the day. For an extra 50p\, why not extend your booking until 5.30pm with Holiday Zone Extra? \nWhether your child likes to draw and paint in the art area\, play football or dodgeball\, or spend time crafting gifts to take home\, we’ve got different daily activities available. \nWe’ve also got a gaming area with games consoles\, table football and the ever-popular pool! \n \nHoliday Zone is open to Mahdlo members aged 8 to 14 years. Membership forms can be completed at reception. If you would like to enquire about your membership status\, please contact reception on 0161 624 0111. \nYour child will be looked after by our team of qualified and trained\, DBS checked\, youth workers\, activity workers and volunteers. To ensure the health and safety of your child whilst at Holiday Zone\, advance booking is required. \nPlease note that all young people attending Mahdlo are expected to adhere to our members Code of Conduct\, and young people must not attend if they have tested positive for Coronavirus. \nPlease call reception on 0161 624 0111 or pop in to Mahdlo to book for Holiday Zone
URL:https://www.mahdloyz.org/event/holiday-zone-february-2023/
LOCATION:Mahdlo Youth Zone\, Sir Norman Stoller Way\, Oldham\, OL1 3SE\, United Kingdom
CATEGORIES:Junior Zone,Whats On
ATTACH;FMTTYPE=image/png:https://www.mahdloyz.org/wp-content/uploads/2023/01/Holiday-Zone-at-Mahdlo.png
END:VEVENT
END:VCALENDAR