BEGIN:VCALENDAR
VERSION:2.0
PRODID:-//Mahdlo Youth Zone - ECPv6.7.0//NONSGML v1.0//EN
CALSCALE:GREGORIAN
METHOD:PUBLISH
X-WR-CALNAME:Mahdlo Youth Zone
X-ORIGINAL-URL:https://www.mahdloyz.org
X-WR-CALDESC:Events for Mahdlo Youth Zone
REFRESH-INTERVAL;VALUE=DURATION:PT1H
X-Robots-Tag:noindex
X-PUBLISHED-TTL:PT1H
BEGIN:VTIMEZONE
TZID:Europe/London
BEGIN:DAYLIGHT
TZOFFSETFROM:+0000
TZOFFSETTO:+0100
TZNAME:BST
DTSTART:20230326T010000
END:DAYLIGHT
BEGIN:STANDARD
TZOFFSETFROM:+0100
TZOFFSETTO:+0000
TZNAME:GMT
DTSTART:20231029T010000
END:STANDARD
END:VTIMEZONE
BEGIN:VEVENT
DTSTART;TZID=Europe/London:20230304T150000
DTEND;TZID=Europe/London:20230304T180000
DTSTAMP:20260424T172429
CREATED:20230116T145307Z
LAST-MODIFIED:20230116T145307Z
UID:44664-1677942000-1677952800@www.mahdloyz.org
SUMMARY:Stars Awards 2023
DESCRIPTION:The Stars Awards is a very special event in the Mahdlo Youth Zone calendar. \nWe reflect on and celebrate the achievements of the young people that attend Mahdlo sessions at our hub and in the districts\, ranging from personal achievements to skills development and making the most of opportunities. \nThe Awards are split into twelve categories: \n\nGet Active\nGet Creative\nGet Sorted\nGet Outdoors\nGet Connected\nGet Ahead\nJunior member of the year\nSenior member of the year\nInclusion member of the year\nMentoring match of the year\nDistrict star\nThe President’s Award\n\nIn 2023 we’re inviting families of nominees\, patrons and special guests to the awards for a uniquely special\, intimate event.
URL:https://www.mahdloyz.org/event/stars-awards-2023/
LOCATION:Mahdlo Youth Zone\, Sir Norman Stoller Way\, Oldham\, OL1 3SE\, United Kingdom
CATEGORIES:Events,Families,Junior Zone,Senior Zone,Whats On
ATTACH;FMTTYPE=image/png:https://www.mahdloyz.org/wp-content/uploads/2023/01/Mahdlo-Stars-Awards-2023.png
END:VEVENT
BEGIN:VEVENT
DTSTART;TZID=Europe/London:20230316T183000
DTEND;TZID=Europe/London:20230316T210000
DTSTAMP:20260424T172429
CREATED:20230116T150947Z
LAST-MODIFIED:20230116T150947Z
UID:44669-1678991400-1679000400@www.mahdloyz.org
SUMMARY:Mahdlo's 11th birthday - Junior Zone Party
DESCRIPTION:We’re 11 this year! Since we opened in 2012 tens of thousands of young people have made their way through our doors\, into a world of opportunity. \nMore information about our Junior Zone 11th Birthday party will be available soon.
URL:https://www.mahdloyz.org/event/mahdlos-11th-birthday-junior-zone-party/
LOCATION:Mahdlo Youth Zone\, Sir Norman Stoller Way\, Oldham\, OL1 3SE\, United Kingdom
CATEGORIES:Junior Zone,Whats On
ATTACH;FMTTYPE=image/png:https://www.mahdloyz.org/wp-content/uploads/2023/01/Mahdlos-11th-birthday-party-Junior-Zone.png
END:VEVENT
BEGIN:VEVENT
DTSTART;TZID=Europe/London:20230317T183000
DTEND;TZID=Europe/London:20230317T220000
DTSTAMP:20260424T172429
CREATED:20230116T151044Z
LAST-MODIFIED:20230116T151044Z
UID:44674-1679077800-1679090400@www.mahdloyz.org
SUMMARY:Mahdlo's 11th birthday - Senior Zone Party
DESCRIPTION:We’re 11 this year! Since we opened in 2012 tens of thousands of young people have made their way through our doors\, into a world of opportunity. \nMore information about our Senior Zone 11th Birthday party will be available soon.
URL:https://www.mahdloyz.org/event/mahdlos-11th-birthday-senior-zone-party/
LOCATION:Mahdlo Youth Zone\, Sir Norman Stoller Way\, Oldham\, OL1 3SE\, United Kingdom
CATEGORIES:Senior Zone,Whats On
ATTACH;FMTTYPE=image/png:https://www.mahdloyz.org/wp-content/uploads/2023/01/Mahdlos-11th-birthday-party-Senior-Zone.png
END:VEVENT
BEGIN:VEVENT
DTSTART;TZID=Europe/London:20230318T133000
DTEND;TZID=Europe/London:20230318T163000
DTSTAMP:20260424T172429
CREATED:20230116T151300Z
LAST-MODIFIED:20230116T151506Z
UID:44676-1679146200-1679157000@www.mahdloyz.org
SUMMARY:Mahdlo's 11th birthday - Girls Zone Party
DESCRIPTION:We’re 11 this year! Since we opened in 2012 tens of thousands of young people have made their way through our doors\, into a world of opportunity. \nMore information about our Girls Zone 11th Birthday party will be available soon.
URL:https://www.mahdloyz.org/event/mahdlos-11th-birthday-girls-zone-party/
LOCATION:Mahdlo Youth Zone\, Sir Norman Stoller Way\, Oldham\, OL1 3SE\, United Kingdom
CATEGORIES:Girls Zone,Whats On
ATTACH;FMTTYPE=image/png:https://www.mahdloyz.org/wp-content/uploads/2023/01/Mahdlos-11th-birthday-party-Girls-Zone.png
END:VEVENT
BEGIN:VEVENT
DTSTART;TZID=Europe/London:20230322T190000
DTEND;TZID=Europe/London:20230322T213000
DTSTAMP:20260424T172429
CREATED:20230214T130517Z
LAST-MODIFIED:20230214T131859Z
UID:45259-1679511600-1679520600@www.mahdloyz.org
SUMMARY:Arts Slam Spring 2023
DESCRIPTION:Welcome to Arts Slam!\n\n\n\nWe’re springing in to 2023 with our first Arts Slam of the year\, on the 22 March! \n\n\n\nThere are two ways to get involved. You can come along as an audience member\, just RSVP for your free tickets. \n\n\n\nOr if you’d like the opportunity to share your art\, sing\, rap or perform anything you can think of please RSVP to the artists invite and we will contact you with more information on how to get involved. \n\n\n\nThe event is free and open to all young people 8 to 19 years old (25 with a disability). Parents\, family\, and friends are welcome and encouraged to attend on the evening as we celebrate all things creative!
URL:https://www.mahdloyz.org/event/arts-slam-spring-2023/
LOCATION:The SPACE at Mahdlo Youth Zone\, Mahdlo Youth Zone\, Egerton Street\, Oldham\, OL1 3SE\, United Kingdom
CATEGORIES:Events,Families,Girls Zone,Junior Zone,Senior Zone,Whats On
ATTACH;FMTTYPE=image/png:https://www.mahdloyz.org/wp-content/uploads/2022/11/Untitled-design.png
END:VEVENT
BEGIN:VEVENT
DTSTART;TZID=Europe/London:20230331T000000
DTEND;TZID=Europe/London:20230331T235959
DTSTAMP:20260424T172429
CREATED:20230116T153231Z
LAST-MODIFIED:20230207T112654Z
UID:44678-1680220800-1680307199@www.mahdloyz.org
SUMMARY:Yellow & Grey Day - raise money for Mahdlo!
DESCRIPTION:Raise money for Mahdlo Youth Zone by signing up to team yellow or team grey. The team with the most money raised wins! \n\n\n\nThis is our first ever Yellow & Grey Day. It’s part of the crucial fundraising we do to ensure our Youth Zone continues to be there for Oldham’s children and young people. Across the country local businesses\, community groups and schools take part in days like this to help raise funds for charity. \n\n\n\nGetting involved\n\n\n\nThere’s hundreds\, maybe even thousands of ways you can get involved! Here’s just a few of them… \n\n\n\n\n\n\n\n\n\n\n\n\n\n\n\n\n\n\n\n\n\n\n\n\n\n\n\n\n\n\n\n\n\n\n\n\n\n\n\n\n\n\n\nIt’s time to plan your day!\n\n\n\nThe main Yellow & Grey Day takes place on Friday 31 March\, where we ask you to support Mahdlo Youth Zone’s Yellow & Grey Day as best you can\, virtually or in person! But you can fundraise whenever you like\, between right now and Friday 31 March. \n\n\n\nSo\, how can you support us on the day? Donning the colours of your team…yellow or grey\, displaying posters and proudly and loudly supporting Mahdlo\, and of course by completing any fundraising you have planned! \n\n\n\nThe next steps (aka HOW DO I SIGN UP?!?!?!?!?!?!?!)\n\n\n\nWe cannot wait to see what you are getting up too! Our fundraising team are always happy to help with any events and can advise you on every detail of whatever you’re planning to do. We can also provide extra materials and resources you may need. \n\n\n\nAbout a month before the Day we’ll be in touch with local businesses\, schools and community groups to split you up in to teams – for now though\, just sign up below!
URL:https://www.mahdloyz.org/event/yellow-grey-day-raise-money-for-mahdlo/
CATEGORIES:Events,Fundraising,Whats On
ATTACH;FMTTYPE=image/png:https://www.mahdloyz.org/wp-content/uploads/2023/01/Double-Donation-2023-buttons.png
END:VEVENT
END:VCALENDAR