BEGIN:VCALENDAR
VERSION:2.0
PRODID:-//Mahdlo Youth Zone - ECPv6.7.0//NONSGML v1.0//EN
CALSCALE:GREGORIAN
METHOD:PUBLISH
X-WR-CALNAME:Mahdlo Youth Zone
X-ORIGINAL-URL:https://www.mahdloyz.org
X-WR-CALDESC:Events for Mahdlo Youth Zone
REFRESH-INTERVAL;VALUE=DURATION:PT1H
X-Robots-Tag:noindex
X-PUBLISHED-TTL:PT1H
BEGIN:VTIMEZONE
TZID:Europe/London
BEGIN:DAYLIGHT
TZOFFSETFROM:+0000
TZOFFSETTO:+0100
TZNAME:BST
DTSTART:20250330T010000
END:DAYLIGHT
BEGIN:STANDARD
TZOFFSETFROM:+0100
TZOFFSETTO:+0000
TZNAME:GMT
DTSTART:20251026T010000
END:STANDARD
END:VTIMEZONE
BEGIN:VEVENT
DTSTART;TZID=Europe/London:20251207T120000
DTEND;TZID=Europe/London:20251207T150000
DTSTAMP:20260422T020250
CREATED:20251030T154433Z
LAST-MODIFIED:20251107T152447Z
UID:52838-1765108800-1765119600@www.mahdloyz.org
SUMMARY:Mahdlo Christmas Fair 2025
DESCRIPTION:Sleigh what… our Christmas Fair is back!!! \nJoin us on Sunday 7th December from 12pm for our Christmas Fair. Festive fun for all the family to enjoy. \nEmbrace the Christmas spirit as Mahdlo transforms into a festive wonderland. With the chance to meet Santa\, craft stalls\, raffles\, entertainment and so much more we guarantee it will be a tree-mendous day out. \nWhy not bring your friends and family along too! \nEntry is 50p on the door \n  \nInterested in having a stall at our Fair?  \nWe’d love to hear from you! To register your interest or find out more about stall holder opportunities\, please get in touch with our team by emailing events@mahdloyz.org
URL:https://www.mahdloyz.org/event/christmas-fair/
LOCATION:Mahdlo Youth Zone\, Sir Norman Stoller Way\, Oldham\, OL1 3SE\, United Kingdom
CATEGORIES:Events,Families,Fundraising,Whats On
ATTACH;FMTTYPE=image/png:https://www.mahdloyz.org/wp-content/uploads/2025/10/Event-Web-Banner-3.png
ORGANIZER;CN="Mahdlo Youth Zone":MAILTO:events@mahdloyz.org
END:VEVENT
BEGIN:VEVENT
DTSTART;VALUE=DATE:20251208
DTEND;VALUE=DATE:20251218
DTSTAMP:20260422T020250
CREATED:20251113T094419Z
LAST-MODIFIED:20251128T124300Z
UID:52922-1765159200-1765936799@www.mahdloyz.org
SUMMARY:Mahdlo Family Christmas Events
DESCRIPTION:Christmas Fair – Sunday 7th December\, 12pm – 3pm \nFestive fun for all the family to enjoy. Embrace the Christmas spirit  with the chance to meet Santa\, take a look at the craft stalls\, enter into raffles\, take part in the elf scavenger hunt and so much more we guarantee it will be a tree-mendous afternoon. \nWhy not bring your friends and family along too\, everybody is welcome! \nSilent Night – Sound Bath – Monday 8th December\, 6:30pm – 8pm \nUnwind and recharge this festive season with a soothing sound bath experience. Bathe in calming tones\, gentle vibrations\, and deep relaxation as you take a peaceful pause from the Christmas rush. \nJust bring yourself – we’ll provide the serenity. \nDeck Your Door – Wreath Making – Wednesday 10th December\, 6:30pm – 8pm \nGet into the festive spirit with our fun wreath-making workshop. Create your own beautiful Christmas wreath with all materials provided\, plus friendly guidance\, tasty refreshments\, and plenty of family fun! Add your personal touch and make something truly special for your home this Christmas. \nSip\, Paint & Be Merry – Tuesday 16th December\, 6:30pm – 8:30pm \nA festive\, family-friendly evening of creativity and fun! Grab a hot chocolate\, pick up a paintbrush\, and let your imagination flow as you create your own Christmas masterpiece to take home. \nNo experience needed – just festive cheer and plenty of sparkle!
URL:https://www.mahdloyz.org/event/xmasfamilyevents/
LOCATION:The SPACE at Mahdlo Youth Zone\, Mahdlo Youth Zone\, Egerton Street\, Oldham\, OL1 3SE\, United Kingdom
CATEGORIES:Events,Families,Junior Zone,Senior Zone,Whats On
ATTACH;FMTTYPE=image/png:https://www.mahdloyz.org/wp-content/uploads/2025/11/Event-Web-Banner-4.png
END:VEVENT
END:VCALENDAR