BEGIN:VCALENDAR
VERSION:2.0
PRODID:-//Mahdlo Youth Zone - ECPv6.7.0//NONSGML v1.0//EN
CALSCALE:GREGORIAN
METHOD:PUBLISH
X-ORIGINAL-URL:https://www.mahdloyz.org
X-WR-CALDESC:Events for Mahdlo Youth Zone
REFRESH-INTERVAL;VALUE=DURATION:PT1H
X-Robots-Tag:noindex
X-PUBLISHED-TTL:PT1H
BEGIN:VTIMEZONE
TZID:Europe/London
BEGIN:DAYLIGHT
TZOFFSETFROM:+0000
TZOFFSETTO:+0100
TZNAME:BST
DTSTART:20250330T010000
END:DAYLIGHT
BEGIN:STANDARD
TZOFFSETFROM:+0100
TZOFFSETTO:+0000
TZNAME:GMT
DTSTART:20251026T010000
END:STANDARD
END:VTIMEZONE
BEGIN:VEVENT
DTSTART;TZID=Europe/London:20250301T180000
DTEND;TZID=Europe/London:20250301T180000
DTSTAMP:20260422T181711
CREATED:20250109T144201Z
LAST-MODIFIED:20250109T145852Z
UID:50691-1740852000-1740852000@www.mahdloyz.org
SUMMARY:Mahdlo's 90's Ball
DESCRIPTION:Dance the night away at Mahdlo’s annual ball!\nGrab your dancing shoes and join us as we travel back in time to the 90’s. For one night only Mahdlo will be entertaining you with all things 90’s. \nYou can expect an enjoyable evening filled with nostalgia\, amazing entertainment\, a 3-course 90’s themed meal and the chance to win some incredible prizes! \nTo secure your seats to the best party in town\, email our Events team events@mahdloyz.org – we hope to see you there!
URL:https://www.mahdloyz.org/event/90sball/
LOCATION:Mahdlo Youth Zone\, Sir Norman Stoller Way\, Oldham\, OL1 3SE\, United Kingdom
CATEGORIES:Events,Fundraising,Whats On
ATTACH;FMTTYPE=image/png:https://www.mahdloyz.org/wp-content/uploads/2025/01/Website-Banner-50-Challenge-1.png
ORGANIZER;CN="Mahdlo Youth Zone":MAILTO:events@mahdloyz.org
END:VEVENT
END:VCALENDAR