BEGIN:VCALENDAR
VERSION:2.0
PRODID:-//Mahdlo Youth Zone - ECPv6.7.0//NONSGML v1.0//EN
CALSCALE:GREGORIAN
METHOD:PUBLISH
X-ORIGINAL-URL:https://www.mahdloyz.org
X-WR-CALDESC:Events for Mahdlo Youth Zone
REFRESH-INTERVAL;VALUE=DURATION:PT1H
X-Robots-Tag:noindex
X-PUBLISHED-TTL:PT1H
BEGIN:VTIMEZONE
TZID:Europe/London
BEGIN:DAYLIGHT
TZOFFSETFROM:+0000
TZOFFSETTO:+0100
TZNAME:BST
DTSTART:20250330T010000
END:DAYLIGHT
BEGIN:STANDARD
TZOFFSETFROM:+0100
TZOFFSETTO:+0000
TZNAME:GMT
DTSTART:20251026T010000
END:STANDARD
END:VTIMEZONE
BEGIN:VEVENT
DTSTART;TZID=Europe/London:20250323T100000
DTEND;TZID=Europe/London:20250323T160000
DTSTAMP:20260422T181706
CREATED:20250218T173106Z
LAST-MODIFIED:20250318T143723Z
UID:50706-1742724000-1742745600@www.mahdloyz.org
SUMMARY:Mahdrox - A Hyrox inspired event (£60 Per Couple)
DESCRIPTION:Mahdrox Challenge: Test Your Fitness and Support Young People in Oldham!\nDo you like a fitness challenge? Do you want to make a difference? Then this could be the event for you… Join us at The Unit Fitness Gym on Sunday 23rd March and take on the Mahdrox challenge! \nThe event will run from 10am – 4pm with 1 hour time slots allocated to each category doubles. \nCompetition Categories: \n\nMen Doubles\nWomen Doubles\nMixed Doubles\n\nThis is the ultimate test of endurance\, strength\, and mental toughness — and you’ll also be raising money to support Mahdlo Youth Zone. \nWe are raising money to enhance our sports and physical wellbeing offer by enabling young people to use our gym 5 days a week for just 50p. Your participation in this event will help support the vital work we do. Let’s work together to make a difference while pushing our limits! \nThe workout will last 30 minutes and will be judged on as many rounds as possible (AMRAP). \nThe workout will include: \n\n500m Run (together)\n400m Ski-erg (shared)\n30 Wall Balls (shared) – 4kg women’s\, 6kg men’s.\n2 Length prowler push (shared) – 100kg women’s\, 150kg men’s.\n10 Burpee (shared)\n\nPlease note: Entry is £60 per couple (£30 each).  \nTickets are still available for our postponed event\, the new date will be confirmed soon.
URL:https://www.mahdloyz.org/event/mahdrox/
LOCATION:The Unit Fitness – Saddleworth\, Gatehead Mill\, Delph New Road\, Oldham\, OL3 5DB
CATEGORIES:Challenge Event,Events,Fundraising,Whats On
ATTACH;FMTTYPE=image/png:https://www.mahdloyz.org/wp-content/uploads/2025/02/Mahdrox-3-1.png
END:VEVENT
END:VCALENDAR