BEGIN:VCALENDAR
VERSION:2.0
PRODID:-//Mahdlo Youth Zone - ECPv6.7.0//NONSGML v1.0//EN
CALSCALE:GREGORIAN
METHOD:PUBLISH
X-ORIGINAL-URL:https://www.mahdloyz.org
X-WR-CALDESC:Events for Mahdlo Youth Zone
REFRESH-INTERVAL;VALUE=DURATION:PT1H
X-Robots-Tag:noindex
X-PUBLISHED-TTL:PT1H
BEGIN:VTIMEZONE
TZID:Europe/London
BEGIN:DAYLIGHT
TZOFFSETFROM:+0000
TZOFFSETTO:+0100
TZNAME:BST
DTSTART:20250330T010000
END:DAYLIGHT
BEGIN:STANDARD
TZOFFSETFROM:+0100
TZOFFSETTO:+0000
TZNAME:GMT
DTSTART:20251026T010000
END:STANDARD
END:VTIMEZONE
BEGIN:VEVENT
DTSTART;TZID=Europe/London:20250403T174500
DTEND;TZID=Europe/London:20250403T213000
DTSTAMP:20260422T163809
CREATED:20250305T143832Z
LAST-MODIFIED:20250320T092137Z
UID:51079-1743702300-1743715800@www.mahdloyz.org
SUMMARY:Oldham Business Quiz in aid of Mahdlo & Dr Kershaw's Hospice
DESCRIPTION:Oldham Business Quiz – In partnership with Oldham Business Awards\, Mahdlo Youth Zone and Dr Kershaw’s Hospice. \nJoin us for a night of friendly competition\, great networking opportunities and fundraising. Bring your colleagues or business partners together to compete for the title of Oldham’s Business Quiz Champions! \nA fun-filled evening of challenging questions\, with a delicious pie supper included to keep you fuelled for the night. \nEvent Details: \nDate: Thursday 3rd April \nTime: 5:45pm – 9:30pm\, the quiz will commence at 7pm. \nVenue: The White Hart\, Lydgate\, OL4 4JJ. \nEntry Fee: £100 per team including a pie supper (maximum 4 people per team) \nWhat’s in store: \n5:45 PM – Arrive\, network & catch up\n6:00 PM – 6:30 PM – Welcome speech & pie supper\n7:00 PM – Quiz kicks off!\n9:00 PM – 9:30 PM – Winners announced & event wrap-up \nWe have plenty of sponsorship opportunities available\, for more information email events@mahdloyz.org.uk. \nAll funds raised from the event will be split between Mahdlo Youth Zone and Dr Kershaw’s Hospice.
URL:https://www.mahdloyz.org/event/obaquiz/
LOCATION:The White Hart – at Lydgate\, 51 Stockport Road\, Lydgate\, OL4 4JJ\, United Kingdom
CATEGORIES:Events,Fundraising,Whats On
ATTACH;FMTTYPE=image/png:https://www.mahdloyz.org/wp-content/uploads/2025/03/OB-Quiz.png
END:VEVENT
END:VCALENDAR