BEGIN:VCALENDAR
VERSION:2.0
PRODID:-//Mahdlo Youth Zone - ECPv6.7.0//NONSGML v1.0//EN
CALSCALE:GREGORIAN
METHOD:PUBLISH
X-WR-CALNAME:Mahdlo Youth Zone
X-ORIGINAL-URL:https://www.mahdloyz.org
X-WR-CALDESC:Events for Mahdlo Youth Zone
REFRESH-INTERVAL;VALUE=DURATION:PT1H
X-Robots-Tag:noindex
X-PUBLISHED-TTL:PT1H
BEGIN:VTIMEZONE
TZID:Europe/London
BEGIN:DAYLIGHT
TZOFFSETFROM:+0000
TZOFFSETTO:+0100
TZNAME:BST
DTSTART:20250330T010000
END:DAYLIGHT
BEGIN:STANDARD
TZOFFSETFROM:+0100
TZOFFSETTO:+0000
TZNAME:GMT
DTSTART:20251026T010000
END:STANDARD
END:VTIMEZONE
BEGIN:VEVENT
DTSTART;VALUE=DATE:20250713
DTEND;VALUE=DATE:20250715
DTSTAMP:20260422T145933
CREATED:20250424T141315Z
LAST-MODIFIED:20250428T132320Z
UID:51372-1752372000-1752458399@www.mahdloyz.org
SUMMARY:Skydive for Mahdlo
DESCRIPTION:Take the leap and fundraise for Mahdlo Youth Zone!\nTick off a bucket list dream and take on the exhilarating Skydive experience all whilst making a difference to the young people in Oldham. With freefall from 15\,000ft\, this is the ultimate adventure experience. \nWe have limited places available so book yours today by clicking here. \nStart your fundraising journey and set up your own fundraising page by clicking here. \nGet in touch with our fundraising team for more information and support: fundraising@mahdloyz.org
URL:https://www.mahdloyz.org/event/skydive2025/
LOCATION:Black Knights Skydiving Parachute Centre\, Hillam Lane\, Cockerham\, LA2 0DY\, United Kingdom
CATEGORIES:Events,Fundraising,Whats On
ATTACH;FMTTYPE=image/png:https://www.mahdloyz.org/wp-content/uploads/2025/04/Copy-of-Skydive-web-banner-7.png
ORGANIZER;CN="Mahdlo Youth Zone":MAILTO:events@mahdloyz.org
END:VEVENT
BEGIN:VEVENT
DTSTART;TZID=Europe/London:20250713T120000
DTEND;TZID=Europe/London:20250713T150000
DTSTAMP:20260422T145933
CREATED:20250618T102955Z
LAST-MODIFIED:20250623T120509Z
UID:51921-1752408000-1752418800@www.mahdloyz.org
SUMMARY:Mahdlo's Summer Fair
DESCRIPTION:Get Ready for a Day of Summer Fun & Carnival Games!\nJoin us for a fantastic day of family fun at the Mahdlo Summer Fair! We’re bringing the magic of the carnival to life with games\, challenges and plenty of prizes to win. \nWhat to expect:\nHook a duck\, wheel of fortune\, circus skills\, raffles\, tombola’s\, bouncy castle\, lucky dips\, balloon making\, DJ’s\, live performances and so much more… \nBring your friends\, bring your family – and most importantly\, bring your summer spirit.\nWe can’t wait to see you there!
URL:https://www.mahdloyz.org/event/summerfair/
CATEGORIES:Events,Fundraising,Whats On
ATTACH;FMTTYPE=image/png:https://www.mahdloyz.org/wp-content/uploads/2025/06/Website-Banners-Events.png
END:VEVENT
END:VCALENDAR