BEGIN:VCALENDAR
VERSION:2.0
PRODID:-//Mahdlo Youth Zone - ECPv6.7.0//NONSGML v1.0//EN
CALSCALE:GREGORIAN
METHOD:PUBLISH
X-WR-CALNAME:Mahdlo Youth Zone
X-ORIGINAL-URL:https://www.mahdloyz.org
X-WR-CALDESC:Events for Mahdlo Youth Zone
REFRESH-INTERVAL;VALUE=DURATION:PT1H
X-Robots-Tag:noindex
X-PUBLISHED-TTL:PT1H
BEGIN:VTIMEZONE
TZID:Europe/London
BEGIN:DAYLIGHT
TZOFFSETFROM:+0000
TZOFFSETTO:+0100
TZNAME:BST
DTSTART:20260329T010000
END:DAYLIGHT
BEGIN:STANDARD
TZOFFSETFROM:+0100
TZOFFSETTO:+0000
TZNAME:GMT
DTSTART:20261025T010000
END:STANDARD
END:VTIMEZONE
BEGIN:VEVENT
DTSTART;TZID=Europe/London:20260321T180000
DTEND;TZID=Europe/London:20260321T233000
DTSTAMP:20260423T113028
CREATED:20251031T100011Z
LAST-MODIFIED:20260216T123959Z
UID:52834-1774116000-1774135800@www.mahdloyz.org
SUMMARY:The Mahdlo Annual Ball
DESCRIPTION:Dance the night away at The Mahdlo Annual Ball!\nGet ready to sparkle and shine at The Mahdlo Annual Ball as our biggest fundraiser of the year returns! \nJoin us on Saturday 21st March from 6pm at Mahdlo Youth Zone for an unforgettable evening with live entertainment\, welcome drinks to kick off the celebration in style\, a delicious 3-course meal\, the chance to win some incredible prizes and so much more… \nWant to be part of the magic? Email our Events team for ticket prices and sponsorship opportunities events@mahdloyz.org – we hope to see you there!
URL:https://www.mahdloyz.org/event/mahdloball26/
LOCATION:Mahdlo Youth Zone\, Sir Norman Stoller Way\, Oldham\, OL1 3SE\, United Kingdom
CATEGORIES:Events,Fundraising,Whats On
ATTACH;FMTTYPE=image/png:https://www.mahdloyz.org/wp-content/uploads/2025/10/Mahdlo-Ball-Web-Banner.png
ORGANIZER;CN="Mahdlo Youth Zone":MAILTO:events@mahdloyz.org
END:VEVENT
BEGIN:VEVENT
DTSTART;TZID=Europe/London:20260326T180000
DTEND;TZID=Europe/London:20260326T213000
DTSTAMP:20260423T113028
CREATED:20260216T124625Z
LAST-MODIFIED:20260216T124625Z
UID:53492-1774548000-1774560600@www.mahdloyz.org
SUMMARY:Oldham Business Awards Quiz
DESCRIPTION:Oldham Business Awards Quiz Night – Join Us for a Brilliant Evening in Support of Mahdlo and Dr. Kershaw’s Hospice!\nGet your team together and put your knowledge to the test — the Oldham Business Awards Quiz Night is back for its second year and Mahdlo Youth Zone is proud to be one of the charities benefiting from this fantastic community event. \nHosted at the beautiful Grains Bar Hotel\, this fun‑filled evening promises great company\, friendly competition\, and plenty of laughs\, all while raising vital funds to support young people across Oldham. \nEvent Highlights\n\n£100 per team of 4 Includes a welcome drink and a hearty pie supper\nThursday 26th March\, 6:00pm – 9:30pm\nGrains Bar Hotel\, Ripponden Road\, Oldham\, OL1 4SX\n\nWhether you’re a quiz fanatic or just in it for the fun\, every penny raised helps Mahdlo continue delivering life‑changing opportunities for young people in our community — alongside our friends at Dr Kershaw’s Hospice. \nHow to Book\nSecure your team’s place by emailing: events@mahdloyz.org \nCome along\, enjoy a brilliant night out and make a real difference for Oldham’s young people.
URL:https://www.mahdloyz.org/event/oldham-business-awards-quiz/
CATEGORIES:Events
ATTACH;FMTTYPE=image/jpeg:https://www.mahdloyz.org/wp-content/uploads/2026/02/OBA-Quiz-Night-Poster-Twitter-Post.jpg
END:VEVENT
END:VCALENDAR